BEGIN:VCALENDAR
VERSION:2.0
PRODID:-//ChamberMaster//Event Calendar 2.0//EN
METHOD:PUBLISH
X-PUBLISHED-TTL:P3D
REFRESH-INTERVAL:P3D
CALSCALE:GREGORIAN
BEGIN:VEVENT
DTSTART;VALUE=DATE:20250806
DTEND;VALUE=DATE:20250808
TRANSP:TRANSPARENT
X-MICROSOFT-CDO-ALLDAYEVENT:TRUE
SUMMARY:The Great Tomato Debate Smoothie Launch
DESCRIPTION:Join us at Smoothie King Longmont on August 6\, 2025\, for the launch of our exciting new creation: the "Ketchup Smoothie!" In a playful twist on the age-old debate of whether a tomato is a fruit or vegetable\, we've partnered with Heinz to craft a unique smoothie that challenges perceptions and sparks conversation. This fun event invites the community to experience our innovative Ketchup Smoothie\, available exclusively in a 20oz size. Come and enjoy this one-of-a-kind blend that aims to settle the question once and for all: Is ketchup a smoothie? Don't miss out on this deliciously unconventional experience at Smoothie King Longmont!
X-ALT-DESC;FMTTYPE=text/html:<br />\n<span style="font-size:18px\;">Join us at Smoothie King Longmont on August 6\, 2025\, for the launch of our exciting new creation: the &quot\;Ketchup Smoothie!&quot\; In a playful twist on the age-old debate of whether a tomato is a fruit or vegetable\, we&rsquo\;ve partnered with Heinz to craft a unique smoothie that challenges perceptions and sparks conversation. This fun event invites the community to experience our innovative Ketchup Smoothie\, available exclusively in a 20oz size. Come and enjoy this one-of-a-kind blend that aims to settle the question once and for all: Is ketchup a smoothie? Don&rsquo\;t miss out on this deliciously unconventional experience at Smoothie King Longmont!</span>
LOCATION:Longmont Smoothie King
UID:e.3083.14001
SEQUENCE:3
DTSTAMP:20260421T095316Z
URL:https://business.longmontchamber.org/events/details/the-great-tomato-debate-smoothie-launch-14001
END:VEVENT

END:VCALENDAR
