BEGIN:VCALENDAR
VERSION:2.0
PRODID:-//ChamberMaster//Event Calendar 2.0//EN
METHOD:PUBLISH
X-PUBLISHED-TTL:P3D
REFRESH-INTERVAL:P3D
CALSCALE:GREGORIAN
BEGIN:VEVENT
DTSTART:20250831T000000Z
DTEND:20250831T030000Z
X-MICROSOFT-CDO-ALLDAYEVENT:FALSE
SUMMARY:DeadPhish Orchestra: A FREE Celebration
DESCRIPTION:This is a free show! All ages & dogs welcome.\n\nDeadPhish Orchestra's song repertoire is not necessarily limited to The Grateful Dead & Phish for this experience. With this ensemble you can always expect an eclectic musical journey with some tricks & treats along the way.\n\nMeet the artists\n\nPaul Murin: Guitar\, Vocals\n\nPaul\, a.k.a. "Lefty\," was a founding member of Phix\, a Phish tribute band that toured extensively in the 2000's. Prior to that\, he spent much of the 1990's playing original music with the Chicago-based band Ralph's Kind. He currently resides in the mountains of Boulder\, CO\, and spends much of his weekday time teaching guitar lessons. He also operates highcountryguitar.com\, an instructional website for guitarists (especially those who love the Dead & Phish!).\n\nBrian Adams Bass\, Vocals\n\nBrian Adams yes\, THE Brian Adams began his touring career with the Missouri-based band Barefoot Revolution. He joined Phix\, with Chris and Paul\, in 2003. Brian can also frequently be found onstage with Americana band Great American Taxi\, and most recently has been playing bass with the High Hawks (featuring Vince Herman and Tim Carbone). He also does a damned fine Les Claypool impersonation go ahead ask him about it. Photos courtesy of Chad Zellmer\, Cervantes Other Side\n\nNatalie on Keyboards\, Vocals
X-ALT-DESC;FMTTYPE=text/html:<div>This is a free show! All ages &amp\; dogs welcome.<br />\nDeadPhish Orchestra&#39\;s song repertoire is not necessarily limited to The Grateful Dead &amp\; Phish for this experience. With this ensemble you can always expect an eclectic musical journey with some tricks &amp\; treats along the way.</div>\n\n<div>Meet the artists</div>\n\n<div>Paul Murin: Guitar\, Vocals</div>\n\n<div>Paul\, a.k.a. &ldquo\;Lefty\,&rdquo\; was a founding member of Phix\, a Phish tribute band that toured extensively in the 2000&rsquo\;s. Prior to that\, he spent much of the 1990&rsquo\;s playing original music with the Chicago-based band Ralph&rsquo\;s Kind. He currently resides in the mountains of Boulder\, CO\, and spends much of his weekday time teaching guitar lessons. He also operates&nbsp\;<a class="x1i10hfl xjbqb8w x1ejq31n x18oe1m7 x1sy0etr xstzfhl x972fbf x10w94by x1qhh985 x14e42zd x9f619 x1ypdohk xt0psk2 x3ct3a4 xdj266r x14z9mp xat24cr x1lziwak xexx8yu xyri2b x18d9i69 x1c1uobl x16tdsg8 x1hl2dhg xggy1nq x1a2a7pz xkrqix3 x1sur9pj x1fey0fg x1s688f" href="https://l.facebook.com/l.php?u=http%3A%2F%2Fhighcountryguitar.com%2F%3Ffbclid%3DIwZXh0bgNhZW0CMTAAYnJpZBExYzVTRmVZeEZqMkdFNjJtSgEeTHoHvgKTR_C1nhiItUdevH8TcAPBsk5msCFBC-H3FiJhF51RqVlqHA4iTTM_aem_osFwjUNkKuTQV-RIBv8syA&amp\;h=AT04RBQAbim4Zs8MYFG7VLopHWQTqDsnhqEOFSpBdoLrrIAbvkbi5QGwTQrqFiqC9hngvMMfqyXtgl7vZm-uhP4PvkFGCeA_bD4x_V7xoJ2NqGWeay9qy2uDvlEjtkFiY99M8okSunQQGZPH2qYvKQ&amp\;__tn__=q&amp\;c[0]=AT1U3bD8Ws2Ijx87vdrVkrX99FfY-sp27JLtxkZHHFZDjG8PmebsRnxqBqx8OCAsyRoRZeEe8epiQOgMHNLxsnc3cqj03Rq9LGtzMzuURoUP28IO8xF1dHdte_eQRSnSF83OCiTgCWs4tMr_NvcyG1YoFIrIINGXSH0" rel="nofollow noreferrer" style="color: var(--blue-link)\; cursor: pointer\; text-decoration-line: none\; border-width: 0px\; margin: 0px\; text-align: inherit\; border-style: none\; padding: 0px\; list-style-type: none\; box-sizing: border-box\; background-color: transparent\; outline: none\; -webkit-tap-highlight-color: transparent\; font-weight: 600\; touch-action: manipulation\; display: inline\; font-family: inherit\;" tabindex="0" target="_blank">highcountryguitar.com</a>\, an instructional website for guitarists (especially those who love the Dead &amp\; Phish!).</div>\n\n<div>Brian Adams Bass\, Vocals<br />\nBrian Adams&hellip\;yes\, THE Brian Adams&hellip\;began his touring career with the Missouri-based band Barefoot Revolution. He joined Phix\, with Chris and Paul\, in 2003. Brian can also frequently be found onstage with Americana band Great American Taxi\, and most recently has been playing bass with the High Hawks (featuring Vince Herman and Tim Carbone). He also does a damned fine Les Claypool impersonation&ndash\;go ahead&hellip\;ask him about it. Photos courtesy of Chad Zellmer\, Cervantes Other Side</div>\n\n<div>Natalie on Keyboards\, Vocals</div>\n
LOCATION:Wibby Brewing
UID:e.3083.14215
SEQUENCE:3
DTSTAMP:20260421T095252Z
URL:https://business.longmontchamber.org/events/details/deadphish-orchestra-a-free-celebration-14215
END:VEVENT

END:VCALENDAR
